BEGIN:VCALENDAR
VERSION:2.0
PRODID:-//First Presbyterian Church of Victoria - ECPv6.6.4.2//NONSGML v1.0//EN
CALSCALE:GREGORIAN
METHOD:PUBLISH
X-WR-CALNAME:First Presbyterian Church of Victoria
X-ORIGINAL-URL:https://fpcofvictoria.org
X-WR-CALDESC:Events for First Presbyterian Church of Victoria
REFRESH-INTERVAL;VALUE=DURATION:PT1H
X-Robots-Tag:noindex
X-PUBLISHED-TTL:PT1H
BEGIN:VTIMEZONE
TZID:America/Chicago
BEGIN:DAYLIGHT
TZOFFSETFROM:-0600
TZOFFSETTO:-0500
TZNAME:CDT
DTSTART:20200308T080000
END:DAYLIGHT
BEGIN:STANDARD
TZOFFSETFROM:-0500
TZOFFSETTO:-0600
TZNAME:CST
DTSTART:20201101T070000
END:STANDARD
BEGIN:DAYLIGHT
TZOFFSETFROM:-0600
TZOFFSETTO:-0500
TZNAME:CDT
DTSTART:20210314T080000
END:DAYLIGHT
BEGIN:STANDARD
TZOFFSETFROM:-0500
TZOFFSETTO:-0600
TZNAME:CST
DTSTART:20211107T070000
END:STANDARD
TZID:UTC
BEGIN:STANDARD
TZOFFSETFROM:+0000
TZOFFSETTO:+0000
TZNAME:UTC
DTSTART:20190101T000000
END:STANDARD
END:VTIMEZONE
BEGIN:VEVENT
DTSTART;TZID=America/Chicago:20210402T120000
DTEND;TZID=America/Chicago:20210402T120000
DTSTAMP:20260421T065651
CREATED:20210211T202110Z
LAST-MODIFIED:20210211T202110Z
UID:1525-1617364800-1617364800@fpcofvictoria.org
SUMMARY:Good Friday Worship Service 12:00 PM
DESCRIPTION:
URL:https://fpcofvictoria.org/event/good-friday-worship-service-1200-pm/
END:VEVENT
BEGIN:VEVENT
DTSTART;TZID=America/Chicago:20210328T103000
DTEND;TZID=America/Chicago:20210328T103000
DTSTAMP:20260421T065651
CREATED:20210211T202236Z
LAST-MODIFIED:20210211T202236Z
UID:1527-1616927400-1616927400@fpcofvictoria.org
SUMMARY:Palm Sunday Worship Service 10:30 AM
DESCRIPTION:
URL:https://fpcofvictoria.org/event/palm-sunday-worship-service-1030-am/
END:VEVENT
BEGIN:VEVENT
DTSTART;TZID=America/Chicago:20210227T083000
DTEND;TZID=America/Chicago:20210227T150000
DTSTAMP:20260421T065651
CREATED:20210211T200901Z
LAST-MODIFIED:20210211T201517Z
UID:1500-1614414600-1614438000@fpcofvictoria.org
SUMMARY:Session Retreat 8:30 AM-3:00 PM
DESCRIPTION:
URL:https://fpcofvictoria.org/event/session-retreat/
END:VEVENT
BEGIN:VEVENT
DTSTART;TZID=America/Chicago:20210217T180000
DTEND;TZID=America/Chicago:20210217T180000
DTSTAMP:20260421T065651
CREATED:20210211T201018Z
LAST-MODIFIED:20210211T201302Z
UID:1501-1613584800-1613584800@fpcofvictoria.org
SUMMARY:Ash Wednesday Worship Service 6:00 PM
DESCRIPTION:
URL:https://fpcofvictoria.org/event/ash-wednesday-worship-service/
LOCATION:FPC of Victoria\, 2408 N. Navarro\, Victoria\, TX\, TX\, 77901\, United States
END:VEVENT
BEGIN:VEVENT
DTSTART;TZID=America/Chicago:20210209T180000
DTEND;TZID=America/Chicago:20210209T180000
DTSTAMP:20260421T065651
CREATED:20200108T183128Z
LAST-MODIFIED:20210211T201808Z
UID:389-1612893600-1612893600@fpcofvictoria.org
SUMMARY:Session Meeting
DESCRIPTION:Monthly Session Meeting
URL:https://fpcofvictoria.org/event/session-meeting-2021-02-08/
LOCATION:FPC of Victoria\, 2408 N. Navarro\, Victoria\, TX\, TX\, 77901\, United States
END:VEVENT
BEGIN:VEVENT
DTSTART;VALUE=DATE:20200412
DTEND;VALUE=DATE:20200413
DTSTAMP:20260421T065651
CREATED:20200312T182526Z
LAST-MODIFIED:20200312T182526Z
UID:964-1586649600-1586735999@fpcofvictoria.org
SUMMARY:Easter
DESCRIPTION:Easter
URL:https://fpcofvictoria.org/event/easter/
END:VEVENT
BEGIN:VEVENT
DTSTART;VALUE=DATE:20200410
DTEND;VALUE=DATE:20200411
DTSTAMP:20260421T065651
CREATED:20200312T182425Z
LAST-MODIFIED:20200312T182425Z
UID:963-1586476800-1586563199@fpcofvictoria.org
SUMMARY:Good Friday
DESCRIPTION:Good Friday
URL:https://fpcofvictoria.org/event/good-friday/
END:VEVENT
BEGIN:VEVENT
DTSTART;VALUE=DATE:20200405
DTEND;VALUE=DATE:20200406
DTSTAMP:20260421T065651
CREATED:20200312T182308Z
LAST-MODIFIED:20200312T182326Z
UID:962-1586044800-1586131199@fpcofvictoria.org
SUMMARY:Palm/Passion Sunday
DESCRIPTION:Palm/Passion Sunday
URL:https://fpcofvictoria.org/event/palm-passion-sunday/
END:VEVENT
BEGIN:VEVENT
DTSTART;TZID=America/Chicago:20200329T103000
DTEND;TZID=America/Chicago:20200329T103000
DTSTAMP:20260421T065651
CREATED:20200108T183439Z
LAST-MODIFIED:20200312T183701Z
UID:658-1585477800-1585477800@fpcofvictoria.org
SUMMARY:Worship Service 10:30 AM
DESCRIPTION:Worship Service
URL:https://fpcofvictoria.org/event/worship-service-2020-03-29-2/
LOCATION:FPC of Victoria\, 2408 N. Navarro\, Victoria\, TX\, TX\, 77901\, United States
END:VEVENT
BEGIN:VEVENT
DTSTART;TZID=America/Chicago:20200312T170000
DTEND;TZID=America/Chicago:20200312T170000
DTSTAMP:20260421T065651
CREATED:20200312T184206Z
LAST-MODIFIED:20200312T184206Z
UID:1005-1584032400-1584032400@fpcofvictoria.org
SUMMARY:Worship Committee 5:00PM
DESCRIPTION:Worship Committee Meeting
URL:https://fpcofvictoria.org/event/worship-committee-500pm/
END:VEVENT
BEGIN:VEVENT
DTSTART;TZID=America/Chicago:20200312T093000
DTEND;TZID=America/Chicago:20200312T093000
DTSTAMP:20260421T065651
CREATED:20200312T184414Z
LAST-MODIFIED:20200312T184414Z
UID:1006-1584005400-1584005400@fpcofvictoria.org
SUMMARY:Adele Carsner Young Circle 9:30AM
DESCRIPTION:Adele Carsner Young Circle
URL:https://fpcofvictoria.org/event/adele-carsner-young-circle-930am/
END:VEVENT
BEGIN:VEVENT
DTSTART;TZID=America/Chicago:20200309T143000
DTEND;TZID=America/Chicago:20200309T143000
DTSTAMP:20260421T065651
CREATED:20200312T184830Z
LAST-MODIFIED:20200312T184926Z
UID:1008-1583764200-1583764200@fpcofvictoria.org
SUMMARY:Community of Faith 2:30PM
DESCRIPTION:Community of Faith
URL:https://fpcofvictoria.org/event/community-of-faith-230pm/
END:VEVENT
BEGIN:VEVENT
DTSTART;TZID=America/Chicago:20200309T140000
DTEND;TZID=America/Chicago:20200309T140000
DTSTAMP:20260421T065651
CREATED:20200312T184553Z
LAST-MODIFIED:20200312T184553Z
UID:1007-1583762400-1583762400@fpcofvictoria.org
SUMMARY:Mary and Martha Circle 2:00PM
DESCRIPTION:Mary and Martha Circle
URL:https://fpcofvictoria.org/event/mary-and-martha-circle-200pm/
END:VEVENT
BEGIN:VEVENT
DTSTART;TZID=America/Chicago:20200226T180000
DTEND;TZID=America/Chicago:20200226T180000
DTSTAMP:20260421T065651
CREATED:20200219T213712Z
LAST-MODIFIED:20200219T214037Z
UID:937-1582740000-1582740000@fpcofvictoria.org
SUMMARY:Ash Wednesday Service 6:00 PM
DESCRIPTION:
URL:https://fpcofvictoria.org/event/ash-wednesday-service/
ATTACH;FMTTYPE=image/png:https://fpcofvictoria.org/wp-content/uploads/2020/02/Ash-2.png
END:VEVENT
BEGIN:VEVENT
DTSTART;TZID=America/Chicago:20200223T103000
DTEND;TZID=America/Chicago:20200223T103000
DTSTAMP:20260421T065651
CREATED:20200212T163711Z
LAST-MODIFIED:20200212T165045Z
UID:918-1582453800-1582453800@fpcofvictoria.org
SUMMARY:Guest Pianist - Muriel Cotman
DESCRIPTION:
URL:https://fpcofvictoria.org/event/guest-pianist-muriel-cotman/
ATTACH;FMTTYPE=image/jpeg:https://fpcofvictoria.org/wp-content/uploads/2020/02/Muriel.Cotman.photo_-scaled-e1581526154826.jpg
END:VEVENT
BEGIN:VEVENT
DTSTART;TZID=America/Chicago:20200125T090000
DTEND;TZID=America/Chicago:20200125T150000
DTSTAMP:20260421T065651
CREATED:20200115T174551Z
LAST-MODIFIED:20200115T174941Z
UID:845-1579942800-1579964400@fpcofvictoria.org
SUMMARY:Session Retreat @ Broadax Ranch 9:00AM - 3:00PM
DESCRIPTION:Session Retreat
URL:https://fpcofvictoria.org/event/session-retreat-broadax-ranch-900am-300pm/
LOCATION:Broadax Cattle Co.\, 189 Fagan Ranch Road\, Tivoli\, TX\, 77990\, United States
END:VEVENT
BEGIN:VEVENT
DTSTART;TZID=America/Chicago:20200121T170000
DTEND;TZID=America/Chicago:20200121T170000
DTSTAMP:20260421T065651
CREATED:20200115T172737Z
LAST-MODIFIED:20200115T172737Z
UID:844-1579626000-1579626000@fpcofvictoria.org
SUMMARY:Worship Committee Meeting 5:00 PM
DESCRIPTION:Worship Committee Meeting
URL:https://fpcofvictoria.org/event/worship-committee-meeting-500-pm/
END:VEVENT
BEGIN:VEVENT
DTSTART;TZID=America/Chicago:20200115T190000
DTEND;TZID=America/Chicago:20200115T190000
DTSTAMP:20260421T065651
CREATED:20200115T155541Z
LAST-MODIFIED:20200115T160403Z
UID:743-1579114800-1579114800@fpcofvictoria.org
SUMMARY:Choir Practice 7:00PM
DESCRIPTION:Choir Practice
URL:https://fpcofvictoria.org/event/choir-practice-700-pm/
END:VEVENT
BEGIN:VEVENT
DTSTART;TZID=America/Chicago:20200115T180000
DTEND;TZID=America/Chicago:20200115T180000
DTSTAMP:20260421T065651
CREATED:20200115T172458Z
LAST-MODIFIED:20200115T172524Z
UID:796-1579111200-1579111200@fpcofvictoria.org
SUMMARY:Kids for Christ 6:00PM
DESCRIPTION:Kids for Christ
URL:https://fpcofvictoria.org/event/kids-for-christ-600-pm/
END:VEVENT
BEGIN:VEVENT
DTSTART;TZID=America/Chicago:20200113T180000
DTEND;TZID=America/Chicago:20200113T180000
DTSTAMP:20260421T065651
CREATED:20200108T183128Z
LAST-MODIFIED:20200108T191319Z
UID:249-1578938400-1578938400@fpcofvictoria.org
SUMMARY:Session Meeting
DESCRIPTION:Monthly Session Meeting
URL:https://fpcofvictoria.org/event/session-meeting/
LOCATION:FPC of Victoria\, 2408 N. Navarro\, Victoria\, TX\, TX\, 77901\, United States
END:VEVENT
BEGIN:VEVENT
DTSTART;TZID=America/Chicago:20200112T103000
DTEND;TZID=America/Chicago:20200112T103000
DTSTAMP:20260421T065651
CREATED:20200108T183439Z
LAST-MODIFIED:20200115T152516Z
UID:273-1578825000-1578825000@fpcofvictoria.org
SUMMARY:Worship Service 10:30 AM
DESCRIPTION:Worship Service
URL:https://fpcofvictoria.org/event/worship-service/
LOCATION:FPC of Victoria\, 2408 N. Navarro\, Victoria\, TX\, TX\, 77901\, United States
END:VEVENT
BEGIN:VEVENT
DTSTART;TZID=America/Chicago:20200105T103000
DTEND;TZID=America/Chicago:20200105T103000
DTSTAMP:20260421T065651
CREATED:20200115T153917Z
LAST-MODIFIED:20200115T153917Z
UID:731-1578220200-1578220200@fpcofvictoria.org
SUMMARY:Worship Service 10:30 AM *Communion*
DESCRIPTION:Worship Service 10:30 AM \n*Communion*
URL:https://fpcofvictoria.org/event/worship-service-1030-am-communion/
END:VEVENT
BEGIN:VEVENT
DTSTART;TZID=UTC:20190915T103000
DTEND;TZID=UTC:20190915T120000
DTSTAMP:20260421T065651
CREATED:20190412T001643Z
LAST-MODIFIED:20190910T171711Z
UID:74-1568543400-1568548800@fpcofvictoria.org
SUMMARY:Guest Musician: Mr. David Faskas
DESCRIPTION:
URL:https://fpcofvictoria.org/event/test-event-3/
LOCATION:FPC of Victoria\, 2408 N. Navarro\, Victoria\, TX\, TX\, 77901\, United States
ATTACH;FMTTYPE=image/png:https://fpcofvictoria.org/wp-content/uploads/2019/09/fpcv_guest-musician.png
END:VEVENT
END:VCALENDAR